BEGIN:VCALENDAR
VERSION:2.0
PRODID:-//Downtown Lakeland Florida - ECPv6.15.17//NONSGML v1.0//EN
CALSCALE:GREGORIAN
METHOD:PUBLISH
X-ORIGINAL-URL:https://downtownlkld.com
X-WR-CALDESC:Events for Downtown Lakeland Florida
REFRESH-INTERVAL;VALUE=DURATION:PT1H
X-Robots-Tag:noindex
X-PUBLISHED-TTL:PT1H
BEGIN:VTIMEZONE
TZID:America/New_York
BEGIN:DAYLIGHT
TZOFFSETFROM:-0500
TZOFFSETTO:-0400
TZNAME:EDT
DTSTART:20250309T070000
END:DAYLIGHT
BEGIN:STANDARD
TZOFFSETFROM:-0400
TZOFFSETTO:-0500
TZNAME:EST
DTSTART:20251102T060000
END:STANDARD
BEGIN:DAYLIGHT
TZOFFSETFROM:-0500
TZOFFSETTO:-0400
TZNAME:EDT
DTSTART:20260308T070000
END:DAYLIGHT
BEGIN:STANDARD
TZOFFSETFROM:-0400
TZOFFSETTO:-0500
TZNAME:EST
DTSTART:20261101T060000
END:STANDARD
BEGIN:DAYLIGHT
TZOFFSETFROM:-0500
TZOFFSETTO:-0400
TZNAME:EDT
DTSTART:20270314T070000
END:DAYLIGHT
BEGIN:STANDARD
TZOFFSETFROM:-0400
TZOFFSETTO:-0500
TZNAME:EST
DTSTART:20271107T060000
END:STANDARD
END:VTIMEZONE
BEGIN:VEVENT
DTSTART;TZID=America/New_York:20261024T170000
DTEND;TZID=America/New_York:20261024T210000
DTSTAMP:20260422T214545
CREATED:20250319T115617Z
LAST-MODIFIED:20260320T133719Z
UID:210430-1792861200-1792875600@downtownlkld.com
SUMMARY:Fall Night Market
DESCRIPTION:Join us for an evening under the stars on Saturday\, October 24 from 5-9 pm for shopping\, dining and live music in Downtown Lakeland. Retail shops will be open late\, and Kentucky Ave will be filled with food\, artisan vendors\, crafters\, live music and more! Feel free to bring the whole family and come dressed in your Halloween gear\, but this is NOT a trick-or-treat or carnival type of event. \nCome hungry and thirsty! Many great street food options (many are your favorites from the farmers Curb Market) and restaurants with pop ups. Revival\, Rec Room\, Molly’s and Chop Shop\, and Nineteen61 and Palace Pizza will also have adult beverages served curbside. Plus Lugo’s Craft Spirits is serving delicious rum drinks! \n 
URL:https://downtownlkld.com/event/fall-night-market-2/
LOCATION:Downtown Lakeland\, 117 N Kentucky Ave\, Lakeland\, FL\, 33801\, United States
ATTACH;FMTTYPE=image/jpeg:https://downtownlkld.com/wp-content/uploads/2025/03/vibrant-autumn-leaves-close-up-scaled.jpg
ORGANIZER;CN="LDDA":MAILTO:jtownsend@ldda.org
END:VEVENT
BEGIN:VEVENT
DTSTART;TZID=America/New_York:20261031T210000
DTEND;TZID=America/New_York:20261031T210000
DTSTAMP:20260422T214545
CREATED:20260320T132654Z
LAST-MODIFIED:20260402T171243Z
UID:213102-1793480400-1793480400@downtownlkld.com
SUMMARY:Rocky Horror Picture Show - Polk Theater
DESCRIPTION:The Rocky Horror Picture Show Experience\n\n\nFeaturing the Lipstick Players \n\n\nOct. 31st  \nDoors @ 9PM  \n(Join us for lots of pre-show activities!)  \nMovie @ Midnight
URL:https://downtownlkld.com/event/rocky-horror-picture-show-polk-theater/
ATTACH;FMTTYPE=image/avif:https://downtownlkld.com/wp-content/uploads/2026/03/rocky-horror.avif
END:VEVENT
BEGIN:VEVENT
DTSTART;TZID=America/New_York:20261114T090000
DTEND;TZID=America/New_York:20261114T140000
DTSTAMP:20260422T214545
CREATED:20240820T201803Z
LAST-MODIFIED:20260320T134707Z
UID:210561-1794646800-1794664800@downtownlkld.com
SUMMARY:Veterans Day Parade and Celebration
DESCRIPTION:On Saturday\, November 9\, we’ll honor our nation’s heroes and celebrate America’s 250th anniversary with a ceremony at 10 a.m. at Veterans Memorial Park\, followed by a community parade at 11 a.m. traveling from the RP Funding Center into Downtown Lakeland.
URL:https://downtownlkld.com/event/veterans-day-parade-and-celebration-in-munn-park/
LOCATION:Munn Park
ATTACH;FMTTYPE=image/webp:https://downtownlkld.com/wp-content/uploads/2024/08/saluting-young-patriot-stockcake.webp
ORGANIZER;CN="LDDA":MAILTO:jtownsend@ldda.org
END:VEVENT
BEGIN:VEVENT
DTSTART;TZID=America/New_York:20261121T200000
DTEND;TZID=America/New_York:20261121T230000
DTSTAMP:20260422T214545
CREATED:20221027T191949Z
LAST-MODIFIED:20260402T170736Z
UID:208453-1795291200-1795302000@downtownlkld.com
SUMMARY:Margarita Ball
DESCRIPTION:**Must be 21 or older to attend**\nThis event will be happening November 21\, 2026\, at the Lake Mirror Promenade in Lakeland. From 8 to 11 pm\, guests can expect to enjoy an evening of live music\, snacks\, margaritas\, and more from local restaurants and bars. The event aims to raise donations of gifts and cash which are distributed throughout the greater Lakeland area to local charity organizations. In addition to purchasing a ticket\, guests are encourage to bring an unwrapped gift (or cash donation) that they can drop off at the entry gate before enjoying lively community event full of friends\, great local food and of course\, margaritas.
URL:https://downtownlkld.com/event/annual-margarita-ball/
LOCATION:Frances Langford Promenade\, FL
ATTACH;FMTTYPE=image/jpeg:https://downtownlkld.com/wp-content/uploads/2022/10/istockphoto-951694234-612x612-1.jpg
ORGANIZER;CN="Lakeland Margarita Society":MAILTO:margaritaballlakeland@gmail.com
END:VEVENT
BEGIN:VEVENT
DTSTART;VALUE=DATE:20261128
DTEND;VALUE=DATE:20261129
DTSTAMP:20260422T214545
CREATED:20221122T133003Z
LAST-MODIFIED:20260320T140418Z
UID:208549-1795824000-1795910399@downtownlkld.com
SUMMARY:Small Business Saturday
DESCRIPTION:Support local businesses by shopping small! Purchase gifts that say\, “You are special!” Not “big box special.” No messy carts\, no pushy crowds. An enjoyable shopping experience for the holidays that you can feel good about\, while getting quality gifts for your friends and family.
URL:https://downtownlkld.com/event/small-business-saturday/
LOCATION:Downtown Lakeland\, 117 N Kentucky Ave\, Lakeland\, FL\, 33801\, United States
ATTACH;FMTTYPE=image/jpeg:https://downtownlkld.com/wp-content/uploads/2022/11/44563752_2494797670538141_880472951424548864_n.jpg
END:VEVENT
BEGIN:VEVENT
DTSTART;TZID=America/New_York:20261203T190000
DTEND;TZID=America/New_York:20261203T210000
DTSTAMP:20260422T214545
CREATED:20251118T145821Z
LAST-MODIFIED:20260320T140914Z
UID:212502-1796324400-1796331600@downtownlkld.com
SUMMARY:Lakeland Christmas Parade! - December 3rd.
DESCRIPTION:The Lakeland Christmas Parade is a time-honored tradition\, enjoyed by the community for generations. The 45th Annual Lakeland Christmas Parade will take place on Thursday\, December 3\, 2025\, at 7:00 p.m. \nThe event will start with a dazzling fireworks display over Lake Mirror at 7 p.m. As the first firework is launched\, the parade will officially begin. Leaving the RP Funding Center\, the 1.25-mile parade route travels down Lemon Street toward downtown. The parade then turns at Main Street to Cedar Street and winds around Lake Mirror\, travels Orange Street and ends at the RP Funding Center.   \nThe Lakeland Christmas Parade includes floats\, marching bands\, and decorated trailers.  The parade will end with everyone’s favorite\, Mr. and Mrs. Claus atop their sleigh.  \nThe City asks that no chairs be placed on the parade route until the day of the parade. Fire Chief Doug Riley says\, “We understand people want a good vantage point to watch the parade. Unfortunately\, we have chairs blocking sidewalks and crosswalks days before the parade.”  Police Chief Sammy Taylor adds\, “This causes a major hazard\, especially for those in our community who use wheelchairs and walkers to get around.” \nThe City will remove/relocate chairs that are totally blocking sidewalks\, in the way of crosswalks and hindering the use of disabled parking spaces.  “We understand the excitement surrounding this event\, but we are also concerned about the safety of all citizens.”  Riley and Taylor said\, “Please\, no chairs on the parade route before the day of the parade.” Chairs\, tape\, blankets\, and other materials used to save viewing spaces will be removed if placed in public right-of-way before the day of the parade. Residents unable to make the parade in person are encouraged to watch live on Spectrum Channel 643\, and FiOS Channel 43. The broadcast will also be streamed with closed captions on www.lakelandgov.net and will be available as a video-on-demand service.
URL:https://downtownlkld.com/event/lakeland-christmas-parade-december-4th/
LOCATION:Downtown Lakeland\, 117 N Kentucky Ave\, Lakeland\, FL\, 33801\, United States
ATTACH;FMTTYPE=image/jpeg:https://downtownlkld.com/wp-content/uploads/2025/11/christmas-parade-logo-01.jpg
END:VEVENT
BEGIN:VEVENT
DTSTART;TZID=America/New_York:20261205T170000
DTEND;TZID=America/New_York:20261205T210000
DTSTAMP:20260422T214545
CREATED:20241203T004934Z
LAST-MODIFIED:20260320T141350Z
UID:210960-1796490000-1796504400@downtownlkld.com
SUMMARY:Snowfest\, Dec 7
DESCRIPTION:12/05/2026 5:00 PM –  9:00 PM\nLake Mirror Park – Frances Langforde Promenade | 121 S. Lake Avenue\n  \n\nStroll along the Francis Langford Promenade at Lake Mirror on December 7th for a walk in the snow from 5 – 9 p.m. \nThe magic of the holiday season returns as the City of Lakeland presents the 44th Annual Snowfest\, a cherished tradition filled with snow\, festive cheer\, and community spirit. Join us on Saturday\, December 5\, 2026\, from 5:00 p.m. to 9:00 p.m. at the Frances Langford Promenade at Lake Mirror for an unforgettable evening. \nSnowfest 2026 offers families the chance to experience a winter wonderland in sunny Florida. Stroll through a sparkling landscape of man-made snow\, twinkling lights\, seasonal decorations\, and joyful music that captures the spirit of the holidays. \nAdmission to the event is free with a canned food donation. This year\, Snowfest continues its tradition of supporting local seniors by benefiting Senior Orphans and Volunteers in Service to the Elderly (VISTE)\, two organizations that provide essential services to elderly residents in need. Canned goods will be collected throughout the evening\, helping spread holiday cheer to those who need it most. \nIn addition to the snow\, Snowfest 2026 will feature a variety of activities and attractions for all ages\, including: \n– Santa and Mrs. Claus\, ready for photos and holiday cheer. \n– Santa’s Workshop\, where visitors can enjoy sweet treats and holiday crafts. \n– A book giveaway sponsored by the Junior League of Greater Lakeland. \n– A vibrant artisan market with arts & craft vendors. \n– Delicious food trucks serving up festive bites and treats. \n– Free Train Rides for kids. \n FREE entry (donations accepted for Polk Senior Orphans) \n Arts & Crafts Vendors \n Take a photo with Santa and Mrs. Claus in a snow globe \n Food Trucks
URL:https://downtownlkld.com/event/snowfest-dec-7/
LOCATION:Frances Langford Promenade\, FL
ATTACH;FMTTYPE=image/png:https://downtownlkld.com/wp-content/uploads/2024/12/snowfest_social-03.png
END:VEVENT
BEGIN:VEVENT
DTSTART;TZID=America/New_York:20261212T170000
DTEND;TZID=America/New_York:20261212T210000
DTSTAMP:20260422T214545
CREATED:20250906T155218Z
LAST-MODIFIED:20260320T141543Z
UID:210642-1797094800-1797109200@downtownlkld.com
SUMMARY:Holiday Night Market
DESCRIPTION:Downtown Lakeland presents: Holiday Night Market on December 12 from 5-9pm!\nJoin us for a holiday blowout featuring\n· 200+ creatives\, artists\, and makers\n· Live music and DJ sets and performances\n· Extended hours offered by downtown retailers\n· Specialty food and drinks from Lakeland’s best pop-ups\n\nThis event will span five blocks of Kentucky Avenue from Lemon St. to Oak St.\, with art\, home goods\, gifts\, and the best mix of eclectic and traditional holiday wares by makers and vendors from all around Central Florida. Mark your calendars for Lakeland’s downtown night market\, party\, and community event to celebrate the holiday season!\n\n\nBeware of scammers. We will not ask you to send money via Cash App\, PayPal\, Venmo\, or social media messengers\, and we will not solicit vendors via messenger or in the comments of any post on social media.  All applications are sourced from this web site only.
URL:https://downtownlkld.com/event/holiday-night-market-2/
LOCATION:Downtown Lakeland\, 117 N Kentucky Ave\, Lakeland\, FL\, 33801\, United States
ATTACH;FMTTYPE=image/jpeg:https://downtownlkld.com/wp-content/uploads/2023/10/HNM-square-2024.jpg
ORGANIZER;CN="LDDA":MAILTO:jtownsend@ldda.org
END:VEVENT
END:VCALENDAR